BEGIN:VCALENDAR
VERSION:2.0
PRODID:SchoolNow
CALSCALE:GREGORIAN
BEGIN:VEVENT
UID:a2b8a024-5a44-11ea-ae6a-12079125c4e7
DTSTAMP:20200228T160902Z
SUMMARY:Teen Volunteer Event/Peanut Butter Solutions
LOCATION:Activities Center
URL;VALUE=URI:https://www.wildernesslakecdd.org/calendar/2209687/teen-volun
 teer-event-peanut-butter-solutions
DTSTART:20200315T160000Z
DTEND:20200315T210000Z
END:VEVENT
END:VCALENDAR
