BEGIN:VCALENDAR
VERSION:2.0
PRODID:SchoolNow
CALSCALE:GREGORIAN
BEGIN:VEVENT
UID:50766bca-5a44-11ea-b6f2-0aa4905f61ab
DTSTAMP:20200228T160644Z
SUMMARY:Photo Shop
LOCATION:Activities Center
URL;VALUE=URI:https://www.wildernesslakecdd.org/calendar/2209686/photo-shop
DTSTART:20200312T170000Z
DTEND:20200312T210000Z
END:VEVENT
END:VCALENDAR
