BEGIN:VCALENDAR
VERSION:2.0
PRODID:SchoolNow
CALSCALE:GREGORIAN
BEGIN:VEVENT
UID:4f0bd14a-5a43-11ea-909e-1245c4aab13d
DTSTAMP:20200228T155932Z
SUMMARY:Private Rental
LOCATION:Nature Center
URL;VALUE=URI:https://www.wildernesslakecdd.org/calendar/2209684/private-re
 ntal
DTSTART:20200308T160000Z
DTEND:20200308T210000Z
END:VEVENT
END:VCALENDAR
