BEGIN:VCALENDAR
VERSION:2.0
PRODID:SchoolNow
CALSCALE:GREGORIAN
BEGIN:VEVENT
UID:464dc46a-5a42-11ea-8036-1288f0c882f3
DTSTAMP:20200228T155208Z
SUMMARY:Private Rental
LOCATION:Nature Center
URL;VALUE=URI:https://www.wildernesslakecdd.org/calendar/2209683/private-re
 ntal
DTSTART:20200307T170000Z
DTEND:20200307T220000Z
END:VEVENT
END:VCALENDAR
