BEGIN:VCALENDAR
VERSION:2.0
PRODID:SchoolNow
CALSCALE:GREGORIAN
BEGIN:VEVENT
UID:ea4abc90-505f-11ea-af3b-0aed746657a3
DTSTAMP:20200216T015907Z
SUMMARY:Private Rental
LOCATION:Nature Center Classroom
URL;VALUE=URI:https://www.wildernesslakecdd.org/calendar/2202169/private-re
 ntal
DTSTART:20200229T160000Z
DTEND:20200229T210000Z
END:VEVENT
END:VCALENDAR
