BEGIN:VCALENDAR
VERSION:2.0
PRODID:SchoolNow
CALSCALE:GREGORIAN
BEGIN:VEVENT
UID:a668f410-505f-11ea-aec9-0ae82188ea19
DTSTAMP:20200216T015713Z
SUMMARY:Private Rental
LOCATION:Activities Center
URL;VALUE=URI:https://www.wildernesslakecdd.org/calendar/2202168/private-re
 ntal
DTSTART:20200228T210000Z
DTEND:20200229T020000Z
END:VEVENT
END:VCALENDAR
