BEGIN:VCALENDAR
VERSION:2.0
PRODID:SchoolNow
CALSCALE:GREGORIAN
BEGIN:VEVENT
UID:b338ec5a-505e-11ea-8641-0aed746657a3
DTSTAMP:20200216T015025Z
SUMMARY:Bird Club Meeting
LOCATION:Activities Center
URL;VALUE=URI:https://www.wildernesslakecdd.org/calendar/2202163/bird-club-
 meeting
DTSTART:20200819T230000Z
DTEND:20200820T003000Z
END:VEVENT
END:VCALENDAR
