BEGIN:VCALENDAR
VERSION:2.0
PRODID:SchoolNow
CALSCALE:GREGORIAN
BEGIN:VEVENT
UID:8c45df4a-505e-11ea-80c4-0aed746657a3
DTSTAMP:20200216T014919Z
SUMMARY:Bird Club Meeting
LOCATION:Activities Center
URL;VALUE=URI:https://www.wildernesslakecdd.org/calendar/2202162/bird-club-
 meeting
DTSTART:20200715T230000Z
DTEND:20200716T003000Z
END:VEVENT
END:VCALENDAR
