BEGIN:VCALENDAR
VERSION:2.0
PRODID:SchoolNow
CALSCALE:GREGORIAN
BEGIN:VEVENT
UID:6442a7ee-505e-11ea-b867-0aed746657a3
DTSTAMP:20200612T194314Z
SUMMARY:Bird Club Meeting - Canceled
LOCATION:Activities Center
URL;VALUE=URI:https://www.wildernesslakecdd.org/calendar/2202161/bird-club-
 meeting
DTSTART:20200617T230000Z
DTEND:20200618T003000Z
END:VEVENT
END:VCALENDAR
