BEGIN:VCALENDAR
VERSION:2.0
PRODID:SchoolNow
CALSCALE:GREGORIAN
BEGIN:VEVENT
UID:3c220d54-505e-11ea-8df8-0aed746657a3
DTSTAMP:20200515T013246Z
SUMMARY:Bird Club Meeting - Cancelled
LOCATION:Activities Center
URL;VALUE=URI:https://www.wildernesslakecdd.org/calendar/2202160/bird-club-
 meeting
DTSTART:20200520T230000Z
DTEND:20200521T003000Z
END:VEVENT
END:VCALENDAR
