BEGIN:VCALENDAR
VERSION:2.0
PRODID:SchoolNow
CALSCALE:GREGORIAN
BEGIN:VEVENT
UID:11b977fa-505e-11ea-a2d1-129df2d0089b
DTSTAMP:20200408T213320Z
SUMMARY:Bird Club Meeting - Cancelled
LOCATION:Activities Center
URL;VALUE=URI:https://www.wildernesslakecdd.org/calendar/2202159/bird-club-
 meeting
DTSTART:20200415T230000Z
DTEND:20200416T003000Z
END:VEVENT
END:VCALENDAR
