BEGIN:VCALENDAR
VERSION:2.0
PRODID:SchoolNow
CALSCALE:GREGORIAN
BEGIN:VEVENT
UID:e845f2f4-505d-11ea-ad86-12147b818885
DTSTAMP:20200317T135235Z
SUMMARY:Bird Club Meeting - March Meeting Canceled
LOCATION:Activities Center
URL;VALUE=URI:https://www.wildernesslakecdd.org/calendar/2202158/bird-club-
 meeting
DTSTART:20200318T230000Z
DTEND:20200319T003000Z
END:VEVENT
END:VCALENDAR
