BEGIN:VCALENDAR
VERSION:2.0
PRODID:SchoolNow
CALSCALE:GREGORIAN
BEGIN:VEVENT
UID:b2a2a35e-505d-11ea-b111-0ae82188ea19
DTSTAMP:20200216T014314Z
SUMMARY:Bird Club Meeting
LOCATION:Activities Center
URL;VALUE=URI:https://www.wildernesslakecdd.org/calendar/2202157/bird-club-
 meeting
DTSTART:20200220T000000Z
DTEND:20200220T013000Z
END:VEVENT
END:VCALENDAR
