BEGIN:VCALENDAR
VERSION:2.0
PRODID:SchoolNow
CALSCALE:GREGORIAN
BEGIN:VEVENT
UID:4064e28a-505c-11ea-88e7-12147b818885
DTSTAMP:20201124T192600Z
SUMMARY:CDD Board Meeting - Dec. 2020
URL;VALUE=URI:https://www.wildernesslakecdd.org/calendar/2202156/cdd-board-
 meeting-dec-2020
DTSTART:20201202T143000Z
DTEND:20201202T180000Z
ATTACH;FILENAME=2020-12-02 - Preserve at Wilderness Lake - Final Agenda-2.p
 df;FMTTYPE=application/pdf:https://campussuite-storage.s3.amazonaws.com/pr
 od/1558874/21caec5e-ea98-11e9-8581-0a20d2c7fac4/2187517/7ae73194-2e8a-11eb
 -bdbe-0aefcd3458ab/file/2020-12-02 - Preserve at Wilderness Lake - Final A
 genda-2.pdf
END:VEVENT
END:VCALENDAR
