BEGIN:VCALENDAR
VERSION:2.0
PRODID:SchoolNow
CALSCALE:GREGORIAN
BEGIN:VEVENT
UID:6352e2c0-505b-11ea-ab05-0ae82188ea19
DTSTAMP:20201006T154235Z
SUMMARY:CDD Board Meeting - October 2020
LOCATION:The call-in number for the meeting is 1-929-205-6099 and the ID# i
 s 7695230756.
URL;VALUE=URI:https://www.wildernesslakecdd.org/calendar/2202154/cdd-board-
 meeting-oct-2020
DTSTART:20201007T133000Z
DTEND:20201007T170000Z
ATTACH;FILENAME=2020-10-07- Preserve at Wilderness Lake - Revised Final Age
 nda-Web.pdf;FMTTYPE=application/pdf:https://campussuite-storage.s3.amazona
 ws.com/prod/1558874/21caec5e-ea98-11e9-8581-0a20d2c7fac4/2167643/8a2520d8-
 07ea-11eb-a7fb-12c1aa107713/file/2020-10-07- Preserve at Wilderness Lake -
  Revised Final Agenda-Web.pdf
END:VEVENT
END:VCALENDAR
