BEGIN:VCALENDAR
VERSION:2.0
PRODID:SchoolNow
CALSCALE:GREGORIAN
BEGIN:VEVENT
UID:c3739ad2-447b-11ea-ab0d-1218aee8ddc9
DTSTAMP:20200131T225600Z
SUMMARY:Bounce House Mania
URL;VALUE=URI:https://www.wildernesslakecdd.org/calendar/2193870/bounce-hou
 se-mania
DTSTART:20200223T170000Z
DTEND:20200223T200000Z
END:VEVENT
END:VCALENDAR
