BEGIN:VCALENDAR
VERSION:2.0
PRODID:SchoolNow
CALSCALE:GREGORIAN
BEGIN:VEVENT
UID:7b7fd776-2b1d-11ea-bfeb-22000a97d21c
DTSTAMP:20200508T003302Z
SUMMARY:Story Time
LOCATION:Activities Center
URL;VALUE=URI:https://www.wildernesslakecdd.org/calendar/2167701/story-time
DTSTART:20210830T140000Z
DTEND:20210830T150000Z
END:VEVENT
END:VCALENDAR
