BEGIN:VCALENDAR
VERSION:2.0
PRODID:SchoolNow
CALSCALE:GREGORIAN
BEGIN:VEVENT
UID:9ad0df00-26ca-11ea-bb88-22000a97d21c
DTSTAMP:20200508T003302Z
SUMMARY:HOA Meeting
LOCATION:Activities Center
URL;VALUE=URI:https://www.wildernesslakecdd.org/calendar/2166314/hoa-meetin
 g
DTSTART:20210824T223000Z
DTEND:20210825T003000Z
END:VEVENT
END:VCALENDAR
