BEGIN:VCALENDAR
VERSION:2.0
PRODID:SchoolNow
CALSCALE:GREGORIAN
BEGIN:VEVENT
UID:5dcd17fa-2601-11ea-b3ab-22000a97d21c
DTSTAMP:20200508T003302Z
SUMMARY:ARC Meeting
LOCATION:Lodge
URL;VALUE=URI:https://www.wildernesslakecdd.org/calendar/2166090/arc-meetin
 g
DTSTART:20210823T223000Z
DTEND:20210824T000000Z
END:VEVENT
END:VCALENDAR
