BEGIN:VCALENDAR
VERSION:2.0
PRODID:SchoolNow
CALSCALE:GREGORIAN
BEGIN:VEVENT
UID:093e224c-25cf-11ea-84d0-22000a97d21c
DTSTAMP:20200508T003302Z
SUMMARY:Movie Night
LOCATION:Theater
URL;VALUE=URI:https://www.wildernesslakecdd.org/calendar/2166034/movie-nigh
 t
DTSTART:20210816T220000Z
DTEND:20210816T233000Z
END:VEVENT
END:VCALENDAR
