BEGIN:VCALENDAR
VERSION:2.0
PRODID:SchoolNow
CALSCALE:GREGORIAN
BEGIN:VEVENT
UID:093e0bae-25cf-11ea-b096-22000a97d21c
DTSTAMP:20200508T003302Z
SUMMARY:Movie Night
LOCATION:Theater
URL;VALUE=URI:https://www.wildernesslakecdd.org/calendar/2166033/movie-nigh
 t
DTSTART:20210809T220000Z
DTEND:20210809T233000Z
END:VEVENT
END:VCALENDAR
