BEGIN:VCALENDAR
VERSION:2.0
PRODID:SchoolNow
CALSCALE:GREGORIAN
BEGIN:VEVENT
UID:093ca124-25cf-11ea-802a-22000a97d21c
DTSTAMP:20200508T003302Z
SUMMARY:Movie Night
LOCATION:Theater
URL;VALUE=URI:https://www.wildernesslakecdd.org/calendar/2166031/movie-nigh
 t
DTSTART:20210726T220000Z
DTEND:20210726T233000Z
END:VEVENT
END:VCALENDAR
