BEGIN:VCALENDAR
VERSION:2.0
PRODID:SchoolNow
CALSCALE:GREGORIAN
BEGIN:VEVENT
UID:093c8b30-25cf-11ea-a897-22000a97d21c
DTSTAMP:20200508T003302Z
SUMMARY:Movie Night
LOCATION:Theater
URL;VALUE=URI:https://www.wildernesslakecdd.org/calendar/2166030/movie-nigh
 t
DTSTART:20210719T220000Z
DTEND:20210719T233000Z
END:VEVENT
END:VCALENDAR
