BEGIN:VCALENDAR
VERSION:2.0
PRODID:SchoolNow
CALSCALE:GREGORIAN
BEGIN:VEVENT
UID:093c7410-25cf-11ea-b1a7-22000a97d21c
DTSTAMP:20200508T003302Z
SUMMARY:Movie Night
LOCATION:Theater
URL;VALUE=URI:https://www.wildernesslakecdd.org/calendar/2166029/movie-nigh
 t
DTSTART:20210712T220000Z
DTEND:20210712T233000Z
END:VEVENT
END:VCALENDAR
