BEGIN:VCALENDAR
VERSION:2.0
PRODID:SchoolNow
CALSCALE:GREGORIAN
BEGIN:VEVENT
UID:093c5d7c-25cf-11ea-b34b-22000a97d21c
DTSTAMP:20200508T003302Z
SUMMARY:Movie Night
LOCATION:Theater
URL;VALUE=URI:https://www.wildernesslakecdd.org/calendar/2166028/movie-nigh
 t
DTSTART:20210705T220000Z
DTEND:20210705T233000Z
END:VEVENT
END:VCALENDAR
