BEGIN:VCALENDAR
VERSION:2.0
PRODID:SchoolNow
CALSCALE:GREGORIAN
BEGIN:VEVENT
UID:093c2ec4-25cf-11ea-a23d-22000a97d21c
DTSTAMP:20200508T003302Z
SUMMARY:Movie Night
LOCATION:Theater
URL;VALUE=URI:https://www.wildernesslakecdd.org/calendar/2166026/movie-nigh
 t
DTSTART:20210621T220000Z
DTEND:20210621T233000Z
END:VEVENT
END:VCALENDAR
