BEGIN:VCALENDAR
VERSION:2.0
PRODID:SchoolNow
CALSCALE:GREGORIAN
BEGIN:VEVENT
UID:093c189e-25cf-11ea-a96d-22000a97d21c
DTSTAMP:20200508T003301Z
SUMMARY:Movie Night
LOCATION:Theater
URL;VALUE=URI:https://www.wildernesslakecdd.org/calendar/2166025/movie-nigh
 t
DTSTART:20210614T220000Z
DTEND:20210614T233000Z
END:VEVENT
END:VCALENDAR
