BEGIN:VCALENDAR
VERSION:2.0
PRODID:SchoolNow
CALSCALE:GREGORIAN
BEGIN:VEVENT
UID:093c0232-25cf-11ea-b58a-22000a97d21c
DTSTAMP:20200508T003301Z
SUMMARY:Movie Night
LOCATION:Theater
URL;VALUE=URI:https://www.wildernesslakecdd.org/calendar/2166024/movie-nigh
 t
DTSTART:20210607T220000Z
DTEND:20210607T233000Z
END:VEVENT
END:VCALENDAR
