BEGIN:VCALENDAR
VERSION:2.0
PRODID:SchoolNow
CALSCALE:GREGORIAN
BEGIN:VEVENT
UID:093bce66-25cf-11ea-85df-22000a97d21c
DTSTAMP:20200508T003301Z
SUMMARY:Movie Night
LOCATION:Theater
URL;VALUE=URI:https://www.wildernesslakecdd.org/calendar/2166022/movie-nigh
 t
DTSTART:20210524T220000Z
DTEND:20210524T233000Z
END:VEVENT
END:VCALENDAR
