BEGIN:VCALENDAR
VERSION:2.0
PRODID:SchoolNow
CALSCALE:GREGORIAN
BEGIN:VEVENT
UID:093bb7d2-25cf-11ea-814a-22000a97d21c
DTSTAMP:20200508T003301Z
SUMMARY:Movie Night
LOCATION:Theater
URL;VALUE=URI:https://www.wildernesslakecdd.org/calendar/2166021/movie-nigh
 t
DTSTART:20210517T220000Z
DTEND:20210517T233000Z
END:VEVENT
END:VCALENDAR
