BEGIN:VCALENDAR
VERSION:2.0
PRODID:SchoolNow
CALSCALE:GREGORIAN
BEGIN:VEVENT
UID:0939dd0e-25cf-11ea-ac02-22000a97d21c
DTSTAMP:20200508T003301Z
SUMMARY:Movie Night
LOCATION:Theater
URL;VALUE=URI:https://www.wildernesslakecdd.org/calendar/2166014/movie-nigh
 t
DTSTART:20210329T220000Z
DTEND:20210329T233000Z
END:VEVENT
END:VCALENDAR
