BEGIN:VCALENDAR
VERSION:2.0
PRODID:SchoolNow
CALSCALE:GREGORIAN
BEGIN:VEVENT
UID:0939b09a-25cf-11ea-9782-22000a97d21c
DTSTAMP:20200508T003301Z
SUMMARY:Movie Night
LOCATION:Theater
URL;VALUE=URI:https://www.wildernesslakecdd.org/calendar/2166012/movie-nigh
 t
DTSTART:20210315T220000Z
DTEND:20210315T233000Z
END:VEVENT
END:VCALENDAR
