BEGIN:VCALENDAR
VERSION:2.0
PRODID:SchoolNow
CALSCALE:GREGORIAN
BEGIN:VEVENT
UID:09395690-25cf-11ea-bde9-22000a97d21c
DTSTAMP:20200508T003301Z
SUMMARY:Movie Night
LOCATION:Theater
URL;VALUE=URI:https://www.wildernesslakecdd.org/calendar/2166008/movie-nigh
 t
DTSTART:20210215T230000Z
DTEND:20210216T003000Z
END:VEVENT
END:VCALENDAR
