BEGIN:VCALENDAR
VERSION:2.0
PRODID:SchoolNow
CALSCALE:GREGORIAN
BEGIN:VEVENT
UID:09393cd2-25cf-11ea-a2d5-22000a97d21c
DTSTAMP:20200508T003301Z
SUMMARY:Movie Night
LOCATION:Theater
URL;VALUE=URI:https://www.wildernesslakecdd.org/calendar/2166007/movie-nigh
 t
DTSTART:20210208T230000Z
DTEND:20210209T003000Z
END:VEVENT
END:VCALENDAR
