BEGIN:VCALENDAR
VERSION:2.0
PRODID:SchoolNow
CALSCALE:GREGORIAN
BEGIN:VEVENT
UID:0938fa10-25cf-11ea-b2db-22000a97d21c
DTSTAMP:20200508T003300Z
SUMMARY:Movie Night
LOCATION:Theater
URL;VALUE=URI:https://www.wildernesslakecdd.org/calendar/2166004/movie-nigh
 t
DTSTART:20210118T230000Z
DTEND:20210119T003000Z
END:VEVENT
END:VCALENDAR
