BEGIN:VCALENDAR
VERSION:2.0
PRODID:SchoolNow
CALSCALE:GREGORIAN
BEGIN:VEVENT
UID:0938c84c-25cf-11ea-8df1-22000a97d21c
DTSTAMP:20200508T003300Z
SUMMARY:Movie Night
LOCATION:Theater
URL;VALUE=URI:https://www.wildernesslakecdd.org/calendar/2166002/movie-nigh
 t
DTSTART:20210104T230000Z
DTEND:20210105T003000Z
END:VEVENT
END:VCALENDAR
