BEGIN:VCALENDAR
VERSION:2.0
PRODID:SchoolNow
CALSCALE:GREGORIAN
BEGIN:VEVENT
UID:0938b1b8-25cf-11ea-a99e-22000a97d21c
DTSTAMP:20200508T003300Z
SUMMARY:Movie Night
LOCATION:Theater
URL;VALUE=URI:https://www.wildernesslakecdd.org/calendar/2166001/movie-nigh
 t
DTSTART:20201228T230000Z
DTEND:20201229T003000Z
END:VEVENT
END:VCALENDAR
