BEGIN:VCALENDAR
VERSION:2.0
PRODID:SchoolNow
CALSCALE:GREGORIAN
BEGIN:VEVENT
UID:09387fc2-25cf-11ea-aec3-22000a97d21c
DTSTAMP:20200508T003300Z
SUMMARY:Movie Night
LOCATION:Theater
URL;VALUE=URI:https://www.wildernesslakecdd.org/calendar/2165999/movie-nigh
 t
DTSTART:20201214T230000Z
DTEND:20201215T003000Z
END:VEVENT
END:VCALENDAR
