BEGIN:VCALENDAR
VERSION:2.0
PRODID:SchoolNow
CALSCALE:GREGORIAN
BEGIN:VEVENT
UID:09368d66-25cf-11ea-bea6-22000a97d21c
DTSTAMP:20200508T003300Z
SUMMARY:Movie Night
LOCATION:Theater
URL;VALUE=URI:https://www.wildernesslakecdd.org/calendar/2165998/movie-nigh
 t
DTSTART:20201207T230000Z
DTEND:20201208T003000Z
END:VEVENT
END:VCALENDAR
