BEGIN:VCALENDAR
VERSION:2.0
PRODID:SchoolNow
CALSCALE:GREGORIAN
BEGIN:VEVENT
UID:093676c8-25cf-11ea-bc63-22000a97d21c
DTSTAMP:20200508T003300Z
SUMMARY:Movie Night
LOCATION:Theater
URL;VALUE=URI:https://www.wildernesslakecdd.org/calendar/2165997/movie-nigh
 t
DTSTART:20201130T230000Z
DTEND:20201201T003000Z
END:VEVENT
END:VCALENDAR
