BEGIN:VCALENDAR
VERSION:2.0
PRODID:SchoolNow
CALSCALE:GREGORIAN
BEGIN:VEVENT
UID:09365f80-25cf-11ea-a67c-22000a97d21c
DTSTAMP:20200508T003300Z
SUMMARY:Movie Night
LOCATION:Theater
URL;VALUE=URI:https://www.wildernesslakecdd.org/calendar/2165996/movie-nigh
 t
DTSTART:20201123T230000Z
DTEND:20201124T003000Z
END:VEVENT
END:VCALENDAR
