BEGIN:VCALENDAR
VERSION:2.0
PRODID:SchoolNow
CALSCALE:GREGORIAN
BEGIN:VEVENT
UID:0936022e-25cf-11ea-8add-22000a97d21c
DTSTAMP:20200508T003300Z
SUMMARY:Movie Night
LOCATION:Theater
URL;VALUE=URI:https://www.wildernesslakecdd.org/calendar/2165992/movie-nigh
 t
DTSTART:20201026T220000Z
DTEND:20201026T233000Z
END:VEVENT
END:VCALENDAR
