BEGIN:VCALENDAR
VERSION:2.0
PRODID:SchoolNow
CALSCALE:GREGORIAN
BEGIN:VEVENT
UID:0935e7bc-25cf-11ea-b15e-22000a97d21c
DTSTAMP:20200508T003300Z
SUMMARY:Movie Night
LOCATION:Theater
URL;VALUE=URI:https://www.wildernesslakecdd.org/calendar/2165991/movie-nigh
 t
DTSTART:20201019T220000Z
DTEND:20201019T233000Z
END:VEVENT
END:VCALENDAR
