BEGIN:VCALENDAR
VERSION:2.0
PRODID:SchoolNow
CALSCALE:GREGORIAN
BEGIN:VEVENT
UID:0935ba8a-25cf-11ea-b744-22000a97d21c
DTSTAMP:20200508T003300Z
SUMMARY:Movie Night
LOCATION:Theater
URL;VALUE=URI:https://www.wildernesslakecdd.org/calendar/2165989/movie-nigh
 t
DTSTART:20201005T220000Z
DTEND:20201005T233000Z
END:VEVENT
END:VCALENDAR
