BEGIN:VCALENDAR
VERSION:2.0
PRODID:SchoolNow
CALSCALE:GREGORIAN
BEGIN:VEVENT
UID:0935460e-25cf-11ea-88a2-22000a97d21c
DTSTAMP:20200823T122343Z
SUMMARY:Movie Night
LOCATION:Theater
URL;VALUE=URI:https://www.wildernesslakecdd.org/calendar/2165984/movie-nigh
 t
DTSTART:20200824T220000Z
DTEND:20200824T233000Z
END:VEVENT
END:VCALENDAR
