BEGIN:VCALENDAR
VERSION:2.0
PRODID:SchoolNow
CALSCALE:GREGORIAN
BEGIN:VEVENT
UID:093518be-25cf-11ea-a100-22000a97d21c
DTSTAMP:20200711T164156Z
SUMMARY:Movie Night
LOCATION:Theater
URL;VALUE=URI:https://www.wildernesslakecdd.org/calendar/2165982/movie-nigh
 t
DTSTART:20200810T220000Z
DTEND:20200810T233000Z
END:VEVENT
END:VCALENDAR
