BEGIN:VCALENDAR
VERSION:2.0
PRODID:SchoolNow
CALSCALE:GREGORIAN
BEGIN:VEVENT
UID:09350248-25cf-11ea-a2cb-22000a97d21c
DTSTAMP:20200508T003259Z
SUMMARY:Movie Night
LOCATION:Theater
URL;VALUE=URI:https://www.wildernesslakecdd.org/calendar/2165981/movie-nigh
 t
DTSTART:20200803T220000Z
DTEND:20200803T233000Z
END:VEVENT
END:VCALENDAR
