BEGIN:VCALENDAR
VERSION:2.0
PRODID:SchoolNow
CALSCALE:GREGORIAN
BEGIN:VEVENT
UID:0934d44e-25cf-11ea-af43-22000a97d21c
DTSTAMP:20200508T003259Z
SUMMARY:Movie Night
LOCATION:Theater
URL;VALUE=URI:https://www.wildernesslakecdd.org/calendar/2165979/movie-nigh
 t
DTSTART:20200720T220000Z
DTEND:20200720T233000Z
END:VEVENT
END:VCALENDAR
