BEGIN:VCALENDAR
VERSION:2.0
PRODID:SchoolNow
CALSCALE:GREGORIAN
BEGIN:VEVENT
UID:0932c9b0-25cf-11ea-9ed1-22000a97d21c
DTSTAMP:20200508T003259Z
SUMMARY:Movie Night
LOCATION:Theater
URL;VALUE=URI:https://www.wildernesslakecdd.org/calendar/2165977/movie-nigh
 t
DTSTART:20200706T220000Z
DTEND:20200706T233000Z
END:VEVENT
END:VCALENDAR
