BEGIN:VCALENDAR
VERSION:2.0
PRODID:SchoolNow
CALSCALE:GREGORIAN
BEGIN:VEVENT
UID:09329c42-25cf-11ea-8ebc-22000a97d21c
DTSTAMP:20200612T195207Z
SUMMARY:Movie Night
LOCATION:Theater
URL;VALUE=URI:https://www.wildernesslakecdd.org/calendar/2165975/movie-nigh
 t
DTSTART:20200622T220000Z
DTEND:20200622T233000Z
END:VEVENT
END:VCALENDAR
